BEGIN:VCALENDAR
VERSION:2.0
PRODID:-//MS-AND - ECPv6.15.20//NONSGML v1.0//EN
CALSCALE:GREGORIAN
METHOD:PUBLISH
X-ORIGINAL-URL:https://eatrightmississippi.org
X-WR-CALDESC:Events for MS-AND
REFRESH-INTERVAL;VALUE=DURATION:PT1H
X-Robots-Tag:noindex
X-PUBLISHED-TTL:PT1H
BEGIN:VTIMEZONE
TZID:America/Chicago
BEGIN:DAYLIGHT
TZOFFSETFROM:-0600
TZOFFSETTO:-0500
TZNAME:CDT
DTSTART:20250309T080000
END:DAYLIGHT
BEGIN:STANDARD
TZOFFSETFROM:-0500
TZOFFSETTO:-0600
TZNAME:CST
DTSTART:20251102T070000
END:STANDARD
BEGIN:DAYLIGHT
TZOFFSETFROM:-0600
TZOFFSETTO:-0500
TZNAME:CDT
DTSTART:20260308T080000
END:DAYLIGHT
BEGIN:STANDARD
TZOFFSETFROM:-0500
TZOFFSETTO:-0600
TZNAME:CST
DTSTART:20261101T070000
END:STANDARD
BEGIN:DAYLIGHT
TZOFFSETFROM:-0600
TZOFFSETTO:-0500
TZNAME:CDT
DTSTART:20270314T080000
END:DAYLIGHT
BEGIN:STANDARD
TZOFFSETFROM:-0500
TZOFFSETTO:-0600
TZNAME:CST
DTSTART:20271107T070000
END:STANDARD
END:VTIMEZONE
BEGIN:VEVENT
DTSTART;TZID=America/Chicago:20260409T080000
DTEND;TZID=America/Chicago:20260410T170000
DTSTAMP:20260423T150033
CREATED:20251106T135322Z
LAST-MODIFIED:20260218T182214Z
UID:13877-1775721600-1775840400@eatrightmississippi.org
SUMMARY:2026 Annual Conference
DESCRIPTION:2026 Mississippi Academy of Nutrition and Dietetics Annual Conference\nApril 9–10\, 2026 | Eagle Ridge Resort and Conference Center | 1500 Raymond Lake Rd\, Raymond\, MS 39154\nJoin our 2026 MSAND Annual Conference—two inspiring days of learning\, networking\, and professional growth! Join dietitians\, nutrition professionals\, students\, and industry partners from across Mississippi as we explore this year’s theme: “Seasons of Change: Cultivating the Future of Nutrition in Mississippi.” \nThis year’s event will be held at the beautiful Eagle Ridge Resort and Conference Center\, offering comfortable onsite accommodations. To reserve your room\, please call Eagle Ridge directly. If onsite rooms fill up\, there are additional hotel options conveniently located in nearby Clinton. \nAttendees can look forward to earning CEUs on both days\, hearing from dynamic speakers\, and engaging in meaningful conversations about the evolving landscape of nutrition and dietetics in our state. \nRegistration is now open! Registrants will be redirected to the Academy website to complete registration. Please enter your Academy member number and the password you use to log in to Eatright.org. For those registrants without an Academy number\, please contact infomsand@gmail.com to register directly through MS-AND. \n \n 
URL:https://eatrightmississippi.org/event/2026-annual-conference/
LOCATION:Eagle Ridge Resort and Conference Center\, Raymond\, MS\, United States
END:VEVENT
BEGIN:VEVENT
DTSTART;TZID=America/Chicago:20260505T140000
DTEND;TZID=America/Chicago:20260505T160000
DTSTAMP:20260423T150033
CREATED:20260218T183519Z
LAST-MODIFIED:20260325T193851Z
UID:14408-1777989600-1777996800@eatrightmississippi.org
SUMMARY:Gulf Coast Region - Spring Educational Meeting
DESCRIPTION:Speaker: Lydia West (MS-AND Media Rep) \nTopic: Legislative Issues Affecting our Profession in Mississippi \nLocation: Singing River Hospital – Pascagoula\, 2809 Denny Ave.\, Pascagoula\, MS 39581 \nDirections: Please park in visitor parking and enter the building at the main entrance that faces Denny Ave (there is a pond near this front entrance). Make a left down a hallway from the lobby and you will come to the Medical Staff Conference Room\nRegister Here\nFor more information\, contact Ginger Carney (gingercarney5@gmail.com)\n 
URL:https://eatrightmississippi.org/event/gulf-coast-region-spring-educational-meeting/
LOCATION:Singing River Hospital – Pascagoula\, 2809 Denny Ave\, Pascagoula\, MS\, 39581\, United States
ORGANIZER;CN="Gulf Coast Region":MAILTO:gulfcoastmsand@gmail.com
END:VEVENT
BEGIN:VEVENT
DTSTART;TZID=America/Chicago:20260511T120000
DTEND;TZID=America/Chicago:20260511T130000
DTSTAMP:20260423T150033
CREATED:20251223T171145Z
LAST-MODIFIED:20251223T171145Z
UID:14142-1778500800-1778504400@eatrightmississippi.org
SUMMARY:MS-AND Article Reading Group Meeting
DESCRIPTION:Topic: MS-AND Article Reading Group Meeting\nTime: March 9\, 2026 12:00 PM Central Time (US and Canada) \nJoin Zoom Meeting\nMeeting ID: 897 6492 2808\nPasscode: 287327
URL:https://eatrightmississippi.org/event/ms-and-article-reading-group-meeting-2/
LOCATION:Virtual
END:VEVENT
BEGIN:VEVENT
DTSTART;TZID=America/Chicago:20260713T120000
DTEND;TZID=America/Chicago:20260713T130000
DTSTAMP:20260423T150033
CREATED:20251223T171249Z
LAST-MODIFIED:20251223T171249Z
UID:14144-1783944000-1783947600@eatrightmississippi.org
SUMMARY:MS-AND Article Reading Group Meeting
DESCRIPTION:Topic: MS-AND Article Reading Group Meeting\nTime: March 9\, 2026 12:00 PM Central Time (US and Canada) \nJoin Zoom Meeting\nMeeting ID: 897 6492 2808\nPasscode: 287327
URL:https://eatrightmississippi.org/event/ms-and-article-reading-group-meeting-3/
LOCATION:Virtual
END:VEVENT
BEGIN:VEVENT
DTSTART;TZID=America/Chicago:20260914T120000
DTEND;TZID=America/Chicago:20260914T130000
DTSTAMP:20260423T150033
CREATED:20251223T171356Z
LAST-MODIFIED:20251223T171356Z
UID:14146-1789387200-1789390800@eatrightmississippi.org
SUMMARY:MS-AND Article Reading Group Meeting
DESCRIPTION:Topic: MS-AND Article Reading Group Meeting\nTime: March 9\, 2026 12:00 PM Central Time (US and Canada) \nJoin Zoom Meeting\nMeeting ID: 897 6492 2808\nPasscode: 287327
URL:https://eatrightmississippi.org/event/ms-and-article-reading-group-meeting-4/
LOCATION:Virtual
END:VEVENT
BEGIN:VEVENT
DTSTART;TZID=America/Chicago:20261109T120000
DTEND;TZID=America/Chicago:20261109T130000
DTSTAMP:20260423T150033
CREATED:20251223T171459Z
LAST-MODIFIED:20251223T171459Z
UID:14148-1794225600-1794229200@eatrightmississippi.org
SUMMARY:MS-AND Article Reading Group Meeting
DESCRIPTION:Topic: MS-AND Article Reading Group Meeting\nTime: March 9\, 2026 12:00 PM Central Time (US and Canada) \nJoin Zoom Meeting\nMeeting ID: 897 6492 2808\nPasscode: 287327
URL:https://eatrightmississippi.org/event/ms-and-article-reading-group-meeting-5/
LOCATION:Virtual
END:VEVENT
END:VCALENDAR