BEGIN:VCALENDAR
VERSION:2.0
PRODID:-//MS-AND - ECPv6.15.20//NONSGML v1.0//EN
CALSCALE:GREGORIAN
METHOD:PUBLISH
X-WR-CALNAME:MS-AND
X-ORIGINAL-URL:https://eatrightmississippi.org
X-WR-CALDESC:Events for MS-AND
REFRESH-INTERVAL;VALUE=DURATION:PT1H
X-Robots-Tag:noindex
X-PUBLISHED-TTL:PT1H
BEGIN:VTIMEZONE
TZID:America/Chicago
BEGIN:DAYLIGHT
TZOFFSETFROM:-0600
TZOFFSETTO:-0500
TZNAME:CDT
DTSTART:20230312T080000
END:DAYLIGHT
BEGIN:STANDARD
TZOFFSETFROM:-0500
TZOFFSETTO:-0600
TZNAME:CST
DTSTART:20231105T070000
END:STANDARD
BEGIN:DAYLIGHT
TZOFFSETFROM:-0600
TZOFFSETTO:-0500
TZNAME:CDT
DTSTART:20240310T080000
END:DAYLIGHT
BEGIN:STANDARD
TZOFFSETFROM:-0500
TZOFFSETTO:-0600
TZNAME:CST
DTSTART:20241103T070000
END:STANDARD
BEGIN:DAYLIGHT
TZOFFSETFROM:-0600
TZOFFSETTO:-0500
TZNAME:CDT
DTSTART:20250309T080000
END:DAYLIGHT
BEGIN:STANDARD
TZOFFSETFROM:-0500
TZOFFSETTO:-0600
TZNAME:CST
DTSTART:20251102T070000
END:STANDARD
END:VTIMEZONE
BEGIN:VEVENT
DTSTART;VALUE=DATE:20240404
DTEND;VALUE=DATE:20240406
DTSTAMP:20260421T040404
CREATED:20231127T210500Z
LAST-MODIFIED:20231127T210500Z
UID:8701-1712188800-1712361599@eatrightmississippi.org
SUMMARY:MS-AND 2024 Annual Conference
DESCRIPTION:SAVE THE DATE – The 2024 MS-AND Annual Conference will be held April 4-5\, 2023 at the Trent Lott Center on the beautiful campus of The University of Southern Mississippi. This year’s theme is Food for Thought – Innovation\, Solutions\, and Strategies for Success. \nFor more information visit https://eatrightmississippi.org/2024-annual-conference/.
URL:https://eatrightmississippi.org/event/ms-and-2024-annual-conference/
LOCATION:Trent Lott Center\, 118 College Dr\, Hattiesburg\, MS\, 39406\, United States
CATEGORIES:homepage
END:VEVENT
END:VCALENDAR