BEGIN:VCALENDAR
VERSION:2.0
PRODID:-//MS-AND - ECPv6.15.20//NONSGML v1.0//EN
CALSCALE:GREGORIAN
METHOD:PUBLISH
X-ORIGINAL-URL:https://eatrightmississippi.org
X-WR-CALDESC:Events for MS-AND
REFRESH-INTERVAL;VALUE=DURATION:PT1H
X-Robots-Tag:noindex
X-PUBLISHED-TTL:PT1H
BEGIN:VTIMEZONE
TZID:America/Chicago
BEGIN:DAYLIGHT
TZOFFSETFROM:-0600
TZOFFSETTO:-0500
TZNAME:CDT
DTSTART:20250309T080000
END:DAYLIGHT
BEGIN:STANDARD
TZOFFSETFROM:-0500
TZOFFSETTO:-0600
TZNAME:CST
DTSTART:20251102T070000
END:STANDARD
BEGIN:DAYLIGHT
TZOFFSETFROM:-0600
TZOFFSETTO:-0500
TZNAME:CDT
DTSTART:20260308T080000
END:DAYLIGHT
BEGIN:STANDARD
TZOFFSETFROM:-0500
TZOFFSETTO:-0600
TZNAME:CST
DTSTART:20261101T070000
END:STANDARD
BEGIN:DAYLIGHT
TZOFFSETFROM:-0600
TZOFFSETTO:-0500
TZNAME:CDT
DTSTART:20270314T080000
END:DAYLIGHT
BEGIN:STANDARD
TZOFFSETFROM:-0500
TZOFFSETTO:-0600
TZNAME:CST
DTSTART:20271107T070000
END:STANDARD
END:VTIMEZONE
BEGIN:VEVENT
DTSTART;TZID=America/Chicago:20260324T173000
DTEND;TZID=America/Chicago:20260324T193000
DTSTAMP:20260423T144454
CREATED:20260311T152942Z
LAST-MODIFIED:20260311T153617Z
UID:14545-1774373400-1774380600@eatrightmississippi.org
SUMMARY:MS-AND Northeast Region Social
DESCRIPTION:You are Invited to MS-AND’s Northeast Region Social! \nLocation: Lost Pizza Company\, 7102 College Hill Road\, Oxford\, MS\, 38655 \nDate: Tuesday\, March 24\, 2026 \nTime: 5:30 – 7:30pm \n\n	Notice: JavaScript is required for this content.
URL:https://eatrightmississippi.org/event/ms-and-northeast-region-social/
LOCATION:Lost Pizza Company\, 7102 College Hill Road\, Oxford\, MS\, 38655\, United States
END:VEVENT
END:VCALENDAR